BEGIN:VCALENDAR
VERSION:2.0
PRODID:Events Booking
BEGIN:VEVENT
UID:69e7375face4b
SUMMARY:NIST Artificial Intelligence Risk Management Framework 1.0 (LIVE RE
 MOTE - CENTRAL TIME)
DESCRIPTION:
 
 
 Group discounts up to 30% are available!Discounts are 
 automatically applied when placing booking reservation.
 
 
 
 
 Reno
 wned author and subject-matter expert Allen Keele will lead you and your t
 eam to effectively leverage the NIST Artificial Intelligence Risk Manageme
 nt Framework 1.0 to establish and build-out your organization's AI risk ma
 nagement program strategy and policies. This powerful oversight\, strategy
 \, and policy development program will deliver the comprehensive AI risk m
 anagement program your organization needs - all based on the respected and
  well-recognized NIST AI risk management framework.
 The online NIST AI R
 MF 1.0 Architect certification exam (#RM102) is included with this trainin
 g.
 
 
 
 
 &nbsp\;&nbsp\;
 
 
 
 
 
LOCATION:1750 Lake Cook Road\, Deerfield\, IL 60015\, United States
DTSTART:20250721T123000Z
DTEND:20250725T083000Z
DTSTAMP:20260421T083751Z
ORGANIZER;CN=Certified Information Security:MAILTO:info@certifiedinfosec.co
 m
GEO:42.154094;-87.870778
X-APPLE-STRUCTURED-LOCATION;VALUE=URI;X-ADDRESS=1750 Lake Cook Road\, Deerf
 ield\, IL 60015\, United States;X-APPLE-RADIUS=72;X-TITLE=Remote attendanc
 e via ZOOM (Central Time):42.154094;-87.870778
END:VEVENT
END:VCALENDAR