BEGIN:VCALENDAR
VERSION:2.0
PRODID:Events Booking
BEGIN:VEVENT
UID:69e7a8509f8e3
SUMMARY:Certified NIST Cybersecurity Framework 2.0 Lead Auditor Training (R
 EMOTE - EASTERN TIME)
DESCRIPTION:
 
 
 Group discounts up to 30% are available!Discounts are 
 automatically applied when placing booking reservation.
 
 
 
 
 NIST
  CSF 2.0 Core desired outcomes can also be assessed for maturity&nbsp\;of 
 execution
 Trying to assess a cybersecurity objective or desired outcome 
 as simply “Incomplete”\, “Partially Complete”\, or “Complete” 
 does not fully capture how mature the recommended tasks are implemented. W
 ere a given cybersecurity objective and its corresponding implementation t
 asks well-planned? Were the tasks driven by documented policy? Were the im
 plementation policy and procedures standardized throughout the organizatio
 n\, or do they differ from one department to another? Are metrics used and
  monitored to identify opportunities for improvement? These are some of th
 e questions we should also consider as we assess every desired outcome and
  control objective’s level of maturity of execution. Determining Maturit
 y Indicator Levels (MIL) is a critical part of a cybersecurity review\, an
 d your instructor will provide the seasoned guidance you and your fellow a
 ssessors/auditors need to perform the assessment properly.
 Is this NIST 
 CSF 2.0 Lead Auditor training only for auditors?&nbsp\;How does it help pe
 ople who implement and manage cybersecurity?&nbsp\;What about people who p
 articipate in governing or practicing&nbsp\;cybersecurity\, but are not pa
 rt of the specialty cybersecurity team?
 This NIST CSF 2.0 Lead Auditor t
 raining is NOT just for cybersecurity specialists and auditors! While the 
 foundation level NIST CSF 2.0 Lead Implementer training and certification 
 makes you aware of the 363 tasks NIST recommends for NIST CSF 2.0 implemen
 tation\, this NIST CSF 2.0 Auditor training takes a deep dive into perform
 ing each of these 363 implementation tasks. Accordingly\, this program is 
 invaluable to anyone playing a role in governing\, managing\, or practicin
 g cybersecurity.&nbsp\;NIST CSF 2.0 governing\, planning\, implementation\
 , operational practice\, and improvement requires baseline assessments (au
 dits) to determine gaps targeted for improvement. This means CSF CSF 2.0 g
 overnors\, planners\, and implementers perform gap-assessments and audits&
 nbsp\;as part of their normal everyday CSF 2.0 roles and responsibilities.
 
 
 
 
 
 
 
 
LOCATION:3225 Cumberland Boulevard Southeast\, Atlanta\, 30339 Georgia\, Un
 ited States
DTSTART:20250508T123000Z
DTEND:20250509T203000Z
DTSTAMP:20260421T163944Z
ORGANIZER;CN=Certified Information Security:MAILTO:info@certifiedinfosec.co
 m
GEO:33.877892;-84.463366
X-APPLE-STRUCTURED-LOCATION;VALUE=URI;X-ADDRESS=3225 Cumberland Boulevard S
 outheast\, Atlanta\, 30339 Georgia\, United States;X-APPLE-RADIUS=72;X-TIT
 LE=Remote attendance via ZOOM (Eastern Time):33.877892;-84.463366
END:VEVENT
END:VCALENDAR