BEGIN:VCALENDAR
VERSION:2.0
PRODID:Events Booking
BEGIN:VEVENT
UID:69e7c3cc6fda3
SUMMARY:Certified ISO 27001 Lead Implementer (LIVE REMOTE - EASTERN TIME)
DESCRIPTION:
 
 
 Group discounts up to 30% are available!Discounts are 
 automatically applied when placing booking reservation.
 
 
 
 
 
 
 
 
 
 &nbsp\;
 Get a thorough understanding of ISO 31000/27001/2/3/5 st
 andards for enterprise risk management and information security governance
 \, and how to leverage the ISO 31000 and 27000 standards to establish and 
 maintain enterprise risk and information security management system (ISMS)
  programs. Then build-out the initial ISO-conforming risk management and i
 nformation security program policy documents right in class!
 Pass your e
 xams and be qualified as a Certified ISO 31000 Internal Controls Risk Anal
 yst and a Certified ISO 27001 Lead Implementer.
 &nbsp\;
 
 
 
 
 
LOCATION:3225 Cumberland Boulevard Southeast\, Atlanta\, 30339 Georgia\, Un
 ited States
DTSTART:20250210T133000Z
DTEND:20250214T213000Z
DTSTAMP:20211006T235738Z
ORGANIZER;CN=Certified Information Security:MAILTO:info@certifiedinfosec.co
 m
GEO:33.877892;-84.463366
X-APPLE-STRUCTURED-LOCATION;VALUE=URI;X-ADDRESS=3225 Cumberland Boulevard S
 outheast\, Atlanta\, 30339 Georgia\, United States;X-APPLE-RADIUS=72;X-TIT
 LE=Remote attendance via ZOOM (Eastern Time):33.877892;-84.463366
END:VEVENT
END:VCALENDAR