BEGIN:VCALENDAR
VERSION:2.0
PRODID:Events Booking
BEGIN:VEVENT
UID:69e59dc65d7a9
SUMMARY:NIST Artificial Intelligence Risk Management Framework 1.0 (LIVE RE
 MOTE - EASTERN TIME)
DESCRIPTION:
 
 
 Group discounts up to 30% are available!Discounts are 
 automatically applied when placing booking reservation.
 
 
 
 
 Reno
 wned author and subject-matter expert Allen Keele will lead you and your t
 eam to effectively leverage the NIST Artificial Intelligence Risk Manageme
 nt Framework 1.0 to establish and build-out your organization's AI risk ma
 nagement program strategy and policies. This powerful oversight\, strategy
 \, and policy development program will deliver the comprehensive AI risk m
 anagement program your organization needs - all based on the respected and
  well-recognized NIST AI risk management framework.
 The online NIST AI R
 MF 1.0 Architect certification exam (#RM102) is included with this trainin
 g.
 
 
 
 
 &nbsp\;&nbsp\;
 
 
 
 
 
LOCATION:3225 Cumberland Boulevard Southeast\, Atlanta\, 30339 Georgia\, Un
 ited States
DTSTART:20250908T123000Z
DTEND:20250912T083000Z
DTSTAMP:20260420T033014Z
ORGANIZER;CN=Certified Information Security:MAILTO:info@certifiedinfosec.co
 m
GEO:33.877892;-84.463366
X-APPLE-STRUCTURED-LOCATION;VALUE=URI;X-ADDRESS=3225 Cumberland Boulevard S
 outheast\, Atlanta\, 30339 Georgia\, United States;X-APPLE-RADIUS=72;X-TIT
 LE=Remote attendance via ZOOM (Eastern Time):33.877892;-84.463366
END:VEVENT
END:VCALENDAR