BEGIN:VCALENDAR
VERSION:2.0
PRODID:Events Booking
BEGIN:VEVENT
UID:69e7e7cb7b18c
SUMMARY:NIST AI RMF 1.0 Architect Training and Certification (LIVE IN AUSTI
 N\, TX)
DESCRIPTION:Renowned author and subject-matter expert Allen Keele will lead
  you and your team to effectively leverage the NIST Artificial Intelligenc
 e Risk Management Framework 1.0 to establish and build-out your organizati
 on's AI risk management program strategy and policies. This powerful overs
 ight\, strategy\, and policy development program will deliver the comprehe
 nsive AI risk management program your organization needs - all based on th
 e respected and well-recognized NIST AI risk management framework. This tr
 aining includes comprehensive coverage of the NIST AI RMF Playbook too!
 
 The online NIST AI RMF 1.0 Architect certification exam (#RM102) is includ
 ed with this training.
 
 
 
 
 
 
 
 
 
LOCATION:300 East 4th Street\, Austin\, Texas\, USA\, 78701
DTSTART:20260518T123000Z
DTEND:20260522T083000Z
DTSTAMP:20260119T063342Z
ORGANIZER;CN=Certified Information Security:MAILTO:info@certifiedinfosec.co
 m
GEO:29.739105;-95.468922
X-APPLE-STRUCTURED-LOCATION;VALUE=URI;X-ADDRESS=300 East 4th Street\, Austi
 n\, Texas\, USA\, 78701;X-APPLE-RADIUS=72;X-TITLE=USA | TX | Courtyard Aus
 tin Downtown/Convention Center:29.739105;-95.468922
END:VEVENT
END:VCALENDAR