BEGIN:VCALENDAR
VERSION:2.0
PRODID:Events Booking
BEGIN:VEVENT
UID:69e8b65f11a88
SUMMARY:Certified ISO 27001 Lead Implementer (LIVE IN ATLANTA)
DESCRIPTION:
 
 
 Group discounts up to 20% are available!Discounts are 
 automatically applied when placing booking reservation.
 
 
 
 
 
 G
 et a thorough understanding of ISO 31000/27001/2/3/5 standards for enterpr
 ise risk management and information security governance\, and how to lever
 age the ISO 31000 and 27000 standards to establish and maintain enterprise
  risk and information security management system (ISMS) programs. Then bui
 ld-out the initial ISO-conforming risk management and information security
  program policy documents right in class!
 Pass your exams and be qualifi
 ed as a Certified ISO 31000 Internal Controls Risk Analyst and a Certified
  ISO 27001 Lead Implementer.
 
 &nbsp\;
 
LOCATION:2876 Spring Hill Parkway\, Smyrna\, GA 30080\, United States
DTSTART:20260921T123000Z
DTEND:20260925T203000Z
DTSTAMP:20260326T044120Z
ORGANIZER;CN=Certified Information Security:MAILTO:info@certifiedinfosec.co
 m
GEO:33.882038;-84.476182
X-APPLE-STRUCTURED-LOCATION;VALUE=URI;X-ADDRESS=2876 Spring Hill Parkway\, 
 Smyrna\, GA 30080\, United States;X-APPLE-RADIUS=72;X-TITLE=US | GA | Hyat
 t Place Atlanta/Cobb Galleria:33.882038;-84.476182
END:VEVENT
END:VCALENDAR