BEGIN:VCALENDAR
VERSION:2.0
PRODID:Events Booking
BEGIN:VEVENT
UID:69e60e841e470
SUMMARY:ISO 31000 Risk Manager Training (LIVE IN ATLANTA)
DESCRIPTION:Learn Enterprise Risk Management\, and how to leverage the ISO 
 31000 standard to establish and maintain an ERM program. Then build-out th
 e initial risk program policy right in class! As the foundation session of
  CIS risk management courses\, this 3-day enterprise risk management train
 ing and workshop session provides thorough coverage of the ISO 31000 and 3
 1010 standards\, as well as setting out advice on the implementation of an
  ERM initiative.
 Certification exams are also included.&nbsp\;Become a C
 ertified ISO 31000 Internal Controls Risk Analyst!&nbsp\;
 
 
 
 
 

  
 
LOCATION:2876 Spring Hill Parkway\, Smyrna\, GA 30080\, United States
DTSTART:20261026T123000Z
DTEND:20261028T203000Z
DTSTAMP:20260326T042312Z
ORGANIZER;CN=Certified Information Security:MAILTO:info@certifiedinfosec.co
 m
GEO:33.882038;-84.476182
X-APPLE-STRUCTURED-LOCATION;VALUE=URI;X-ADDRESS=2876 Spring Hill Parkway\, 
 Smyrna\, GA 30080\, United States;X-APPLE-RADIUS=72;X-TITLE=US | GA | Hyat
 t Place Atlanta/Cobb Galleria:33.882038;-84.476182
END:VEVENT
END:VCALENDAR