BEGIN:VCALENDAR
VERSION:2.0
PRODID:Events Booking
BEGIN:VEVENT
UID:69e8b62ba0f8d
SUMMARY:NIST Cybersecurity Framework (CSF) LI Training and Certification (R
 EMOTE - EASTERN TIME)
DESCRIPTION:NIST Cybersecurity Framework 2.0
 The&nbsp\;NIST Cybersecurity
  Framework 2.0 provides a policy framework of&nbsp\;computer security&nbsp
 \;guidance for how&nbsp\;private sector&nbsp\;organizations in the United 
 States and around the world can assess and improve their ability to preven
 t\, detect\, and respond to cyber attacks. The framework has been translat
 ed to many languages\, and is used by the governments of Japan and Israel\
 , among others.
 The NIST CSF 2.0 is now the go-to playbook for countless
  organizations for building a robust data protection strategy. It’s stru
 ctured along six core functions - Govern\, Identify\, Protect\, Detect\, R
 espond and Recover - each of which captures and curates the essential goal
 s and actions that should be prioritized across the cybersecurity lifecycl
 e.
 Become a Certified NIST Cybersecurity Framework 2.0 Lead Implementer!
 &nbsp\;
LOCATION:3225 Cumberland Boulevard Southeast\, Atlanta\, 30339 Georgia\, Un
 ited States
DTSTART:20260831T123000Z
DTEND:20260902T203000Z
DTSTAMP:20260322T234431Z
ORGANIZER;CN=Certified Information Security:MAILTO:info@certifiedinfosec.co
 m
GEO:33.877892;-84.463366
X-APPLE-STRUCTURED-LOCATION;VALUE=URI;X-ADDRESS=3225 Cumberland Boulevard S
 outheast\, Atlanta\, 30339 Georgia\, United States;X-APPLE-RADIUS=72;X-TIT
 LE=Remote attendance via ZOOM (Eastern Time):33.877892;-84.463366
END:VEVENT
END:VCALENDAR