BEGIN:VCALENDAR
VERSION:2.0
PRODID:Events Booking
BEGIN:VEVENT
UID:69e5fa4b39f55
SUMMARY:NIST AI RMF 1.0 Architect Training and Certification (LIVE REMOTE -
  CENTRAL TIME)
DESCRIPTION:Renowned author and subject-matter expert Allen Keele will lead
  you and your team to effectively leverage the NIST Artificial Intelligenc
 e Risk Management Framework 1.0 to establish and build-out your organizati
 on's AI risk management program strategy and policies. This powerful overs
 ight\, strategy\, and policy development program will deliver the comprehe
 nsive AI risk management program your organization needs - all based on th
 e respected and well-recognized NIST AI risk management framework. This tr
 aining includes comprehensive coverage of the NIST AI RMF Playbook too!
 
 The online NIST AI RMF 1.0 Architect certification exam (#RM102) is includ
 ed with this training.
 
 
 
 
 
 
 
 
 
LOCATION:1750 Lake Cook Road\, Deerfield\, IL 60015\, United States
DTSTART:20260518T123000Z
DTEND:20260522T203000Z
DTSTAMP:20260119T063001Z
ORGANIZER;CN=Certified Information Security:MAILTO:info@certifiedinfosec.co
 m
GEO:42.154094;-87.870778
X-APPLE-STRUCTURED-LOCATION;VALUE=URI;X-ADDRESS=1750 Lake Cook Road\, Deerf
 ield\, IL 60015\, United States;X-APPLE-RADIUS=72;X-TITLE=Remote attendanc
 e via ZOOM (Central Time):42.154094;-87.870778
END:VEVENT
END:VCALENDAR