BEGIN:VCALENDAR
VERSION:2.0
PRODID:Events Booking
BEGIN:VEVENT
UID:69e5e62d788ae
SUMMARY:ISO 31000 Risk Manager Training (LIVE REMOTE - EASTERN TIME)
DESCRIPTION:Learn Enterprise Risk Management\, and how to leverage the ISO 
 31000 standard to establish and maintain an ERM program. Then build-out th
 e initial risk program policy right in class! As the foundation session of
  CIS risk management courses\, this 3-day enterprise risk management train
 ing and workshop session provides thorough coverage of the ISO 31000 and 3
 1010 standards\, as well as setting out advice on the implementation of an
  ERM initiative.
 Certification exams are also included.&nbsp\;Become a C
 ertified ISO 31000 Internal Controls Risk Analyst!&nbsp\;
 
 
 
 
 

  
 
LOCATION:3225 Cumberland Boulevard Southeast\, Atlanta\, 30339 Georgia\, Un
 ited States
DTSTART:20260323T123000Z
DTEND:20260325T203000Z
DTSTAMP:20251028T180317Z
ORGANIZER;CN=Certified Information Security:MAILTO:info@certifiedinfosec.co
 m
GEO:33.877892;-84.463366
X-APPLE-STRUCTURED-LOCATION;VALUE=URI;X-ADDRESS=3225 Cumberland Boulevard S
 outheast\, Atlanta\, 30339 Georgia\, United States;X-APPLE-RADIUS=72;X-TIT
 LE=Remote attendance via ZOOM (Eastern Time):33.877892;-84.463366
END:VEVENT
END:VCALENDAR